BEGIN:VCALENDAR
VERSION:2.0
CALSCALE:GREGORIAN
METHOD:PUBLISH
X-WR-TIMEZONE:Europe/Berlin
BEGIN:VEVENT
SUMMARY:„Zum Knicken?“
DTSTART:20260425T080000Z
DTEND:20260425T140000Z
DTSTAMP:20260421T164645Z
UID:veranstaltung-2487@kulturnetz-landau.de
CATEGORIES:
DESCRIPTION:Offene Werkstatt zur Kunstnacht Landau\n\nhttps://kulturnetz-l
 andau.de/veranstaltung/zum-knicken-yy6v/
LOCATION:Haus am Westbahnhof\, An 44 40a\, 76829 Landau in der Pfalz
URL:https://kulturnetz-landau.de/veranstaltung/zum-knicken-yy6v/
BEGIN:VALARM
ACTION:display
DESCRIPTION:„Zum Knicken?“
TRIGGER:-PT1H
END:VALARM
END:VEVENT
END:VCALENDAR
