BEGIN:VCALENDAR
VERSION:2.0
CALSCALE:GREGORIAN
METHOD:PUBLISH
X-WR-TIMEZONE:Europe/Berlin
BEGIN:VEVENT
SUMMARY:Volker Wissing: Verantwortung
DTSTART:20260423T170000Z
DTSTAMP:20260419T231703Z
UID:veranstaltung-2480@kulturnetz-landau.de
CATEGORIES:
DESCRIPTION:Volker Wissing im Gespräch mit Prof. Dr. Manuela Glaab\n\nhtt
 ps://kulturnetz-landau.de/veranstaltung/volker-wissing-verantwortung-qw37/
LOCATION:Kulturzentrum Altes Kaufhaus\, Rathausplatz 9\, 76829 Landau in d
 er Pfalz
URL:https://kulturnetz-landau.de/veranstaltung/volker-wissing-verantwortun
 g-qw37/
BEGIN:VALARM
ACTION:display
DESCRIPTION:Volker Wissing: Verantwortung
TRIGGER:-PT1H
END:VALARM
END:VEVENT
END:VCALENDAR
