BEGIN:VCALENDAR
VERSION:2.0
CALSCALE:GREGORIAN
METHOD:PUBLISH
X-WR-TIMEZONE:Europe/Berlin
BEGIN:VEVENT
SUMMARY:verborgen
DTSTART:20250222T140000Z
DTSTAMP:20260419T184427Z
UID:veranstaltung-1597@kulturnetz-landau.de
CATEGORIES:
DESCRIPTION:Führung mit den Künstlerinnen Lena Schmidt und Ann-Kathrin K
 rächan\n\nhttps://kulturnetz-landau.de/veranstaltung/verborgen-gmnp/
LOCATION:Städtische Galerie Villa Streccius\, Südring 20\, 76829 Landau 
 in der Pfalz
URL:https://kulturnetz-landau.de/veranstaltung/verborgen-gmnp/
BEGIN:VALARM
ACTION:display
DESCRIPTION:verborgen
TRIGGER:-PT1H
END:VALARM
END:VEVENT
END:VCALENDAR
