BEGIN:VCALENDAR
VERSION:2.0
CALSCALE:GREGORIAN
METHOD:PUBLISH
X-WR-TIMEZONE:Europe/Berlin
BEGIN:VEVENT
SUMMARY:Understatement
DTSTART:20241130T183000Z
DTSTAMP:20260420T072158Z
UID:veranstaltung-1406@kulturnetz-landau.de
CATEGORIES:
DESCRIPTION:Von Arzheims vornehmer Zurückhaltung\n\nhttps://kulturnetz-la
 ndau.de/veranstaltung/understatement-wzqr/
LOCATION:Dorfgemeinschaftshaus Arzheim\, Arzheimer Hauptstraße 42\, 76829
  Landau in der Pfalz
URL:https://kulturnetz-landau.de/veranstaltung/understatement-wzqr/
BEGIN:VALARM
ACTION:display
DESCRIPTION:Understatement
TRIGGER:-PT1H
END:VALARM
END:VEVENT
END:VCALENDAR
