BEGIN:VCALENDAR
VERSION:2.0
CALSCALE:GREGORIAN
METHOD:PUBLISH
X-WR-TIMEZONE:Europe/Berlin
BEGIN:VEVENT
SUMMARY:Theaterferien
DTSTART:20260407T070000Z
DTEND:20260407T130000Z
DTSTAMP:20260422T121912Z
UID:veranstaltung-2338@kulturnetz-landau.de
CATEGORIES:
DESCRIPTION:Workshopwoche für Kinder mit Bettina Brückmann\n\nhttps://ku
 lturnetz-landau.de/veranstaltung/theaterferien-xn5x/
LOCATION:Haus am Westbahnhof\, An 44 40a\, 76829 Landau in der Pfalz
URL:https://kulturnetz-landau.de/veranstaltung/theaterferien-xn5x/
BEGIN:VALARM
ACTION:display
DESCRIPTION:Theaterferien
TRIGGER:-PT1H
END:VALARM
END:VEVENT
END:VCALENDAR
