BEGIN:VCALENDAR
VERSION:2.0
CALSCALE:GREGORIAN
METHOD:PUBLISH
X-WR-TIMEZONE:Europe/Berlin
BEGIN:VEVENT
SUMMARY:„Spiel mich!“
DTSTART:20260626T090000Z
DTSTAMP:20260421T164206Z
UID:veranstaltung-2489@kulturnetz-landau.de
CATEGORIES:
DESCRIPTION:Musik in der ganzen Stadt\n\nhttps://kulturnetz-landau.de/vera
 nstaltung/spiel-mich-d266/
LOCATION:Landau\, None\, 76829 Landau in der Pfalz
URL:https://kulturnetz-landau.de/veranstaltung/spiel-mich-d266/
BEGIN:VALARM
ACTION:display
DESCRIPTION:„Spiel mich!“
TRIGGER:-PT1H
END:VALARM
END:VEVENT
END:VCALENDAR
