BEGIN:VCALENDAR
VERSION:2.0
CALSCALE:GREGORIAN
METHOD:PUBLISH
X-WR-TIMEZONE:Europe/Berlin
BEGIN:VEVENT
SUMMARY:San2-Trio: Soul & Blues
DTSTART:20260727T180000Z
DTSTAMP:20260423T160341Z
UID:veranstaltung-2496@kulturnetz-landau.de
CATEGORIES:
DESCRIPTION:Montagsreihe des KuZ Altstadt\n\nhttps://kulturnetz-landau.de/
 veranstaltung/san2-trio-soul-blues-4w24/
LOCATION:Frank-Loebsches Haus (Innenhof)\, Kaufhausgasse 9\, 76829 Landau 
 in der Pfalz
URL:https://kulturnetz-landau.de/veranstaltung/san2-trio-soul-blues-4w24/
BEGIN:VALARM
ACTION:display
DESCRIPTION:San2-Trio: Soul & Blues
TRIGGER:-PT1H
END:VALARM
END:VEVENT
END:VCALENDAR
