BEGIN:VCALENDAR
VERSION:2.0
CALSCALE:GREGORIAN
METHOD:PUBLISH
X-WR-TIMEZONE:Europe/Berlin
BEGIN:VEVENT
SUMMARY:„Rück näher her ans Feuer“
DTSTART:20261002T180000Z
DTSTAMP:20260422T142848Z
UID:veranstaltung-2493@kulturnetz-landau.de
CATEGORIES:
DESCRIPTION:Liederabend mit „Reinig\, Braun + Böhm“ und Marion & Ivo 
 Pügner\n\nhttps://kulturnetz-landau.de/veranstaltung/rueck-naeher-her-ans
 -feuer-6oe2/
LOCATION:Haus am Westbahnhof\, An 44 40a\, 76829 Landau in der Pfalz
URL:https://kulturnetz-landau.de/veranstaltung/rueck-naeher-her-ans-feuer-
 6oe2/
BEGIN:VALARM
ACTION:display
DESCRIPTION:„Rück näher her ans Feuer“
TRIGGER:-PT1H
END:VALARM
END:VEVENT
END:VCALENDAR
