BEGIN:VCALENDAR
VERSION:2.0
CALSCALE:GREGORIAN
METHOD:PUBLISH
X-WR-TIMEZONE:Europe/Berlin
BEGIN:VEVENT
SUMMARY:Marion & Sobo Band
DTSTART:20260803T180000Z
DTSTAMP:20260423T154709Z
UID:veranstaltung-2497@kulturnetz-landau.de
CATEGORIES:
DESCRIPTION:Montagsreihe des KuZ Altstadt\n\nhttps://kulturnetz-landau.de/
 veranstaltung/marion-sobo-band-gvmd/
LOCATION:Frank-Loebsches Haus (Innenhof)\, Kaufhausgasse 9\, 76829 Landau 
 in der Pfalz
URL:https://kulturnetz-landau.de/veranstaltung/marion-sobo-band-gvmd/
BEGIN:VALARM
ACTION:display
DESCRIPTION:Marion & Sobo Band
TRIGGER:-PT1H
END:VALARM
END:VEVENT
END:VCALENDAR
