BEGIN:VCALENDAR
VERSION:2.0
CALSCALE:GREGORIAN
METHOD:PUBLISH
X-WR-TIMEZONE:Europe/Berlin
BEGIN:VEVENT
SUMMARY:Les Primitifs
DTSTART:20260810T180000Z
DTSTAMP:20260423T154924Z
UID:veranstaltung-2498@kulturnetz-landau.de
CATEGORIES:
DESCRIPTION:Montagsreihe des KuZ Altstadt\n\nhttps://kulturnetz-landau.de/
 veranstaltung/les-primitifs-rwe5/
LOCATION:Frank-Loebsches Haus (Innenhof)\, Kaufhausgasse 9\, 76829 Landau 
 in der Pfalz
URL:https://kulturnetz-landau.de/veranstaltung/les-primitifs-rwe5/
BEGIN:VALARM
ACTION:display
DESCRIPTION:Les Primitifs
TRIGGER:-PT1H
END:VALARM
END:VEVENT
END:VCALENDAR
