BEGIN:VCALENDAR
VERSION:2.0
CALSCALE:GREGORIAN
METHOD:PUBLISH
X-WR-TIMEZONE:Europe/Berlin
BEGIN:VEVENT
SUMMARY:Kurz & Bunt
DTSTART:20241221T180000Z
DTSTAMP:20260425T220127Z
UID:veranstaltung-1506@kulturnetz-landau.de
CATEGORIES:
DESCRIPTION:Queere Filme zur längsten Nacht\n\nhttps://kulturnetz-landau.
 de/veranstaltung/kurz-bunt-wyz6/
LOCATION:Haus am Westbahnhof\, An 44 40a\, 76829 Landau in der Pfalz
URL:https://kulturnetz-landau.de/veranstaltung/kurz-bunt-wyz6/
BEGIN:VALARM
ACTION:display
DESCRIPTION:Kurz & Bunt
TRIGGER:-PT1H
END:VALARM
END:VEVENT
END:VCALENDAR
