BEGIN:VCALENDAR
VERSION:2.0
CALSCALE:GREGORIAN
METHOD:PUBLISH
X-WR-TIMEZONE:Europe/Berlin
BEGIN:VEVENT
SUMMARY:Kulturzeit 2026/27
DTSTART:20260623T070000Z
DTEND:20260623T110000Z
DTSTAMP:20260421T174743Z
UID:veranstaltung-2490@kulturnetz-landau.de
CATEGORIES:
DESCRIPTION:Infostand des städtischen Kulturbüros\n\nhttps://kulturnetz-
 landau.de/veranstaltung/kulturzeit-202627-vvm4/
LOCATION:Rathausplatz\, Rathausplatz 1\, 76829 Landau in der Pfalz
URL:https://kulturnetz-landau.de/veranstaltung/kulturzeit-202627-vvm4/
BEGIN:VALARM
ACTION:display
DESCRIPTION:Kulturzeit 2026/27
TRIGGER:-PT1H
END:VALARM
END:VEVENT
END:VCALENDAR
