BEGIN:VCALENDAR
VERSION:2.0
CALSCALE:GREGORIAN
METHOD:PUBLISH
X-WR-TIMEZONE:Europe/Berlin
BEGIN:VEVENT
SUMMARY:Kino-Kaffee-Kuchen: Funny Birds
DTSTART:20250703T140000Z
DTSTAMP:20260422T110348Z
UID:veranstaltung-1966@kulturnetz-landau.de
CATEGORIES:
DESCRIPTION:Seniorentreff im Universum Theater\n\nhttps://kulturnetz-landa
 u.de/veranstaltung/kino-kaffee-kuchen-funny-birds-znxd/
LOCATION:Universum Theater Landau\, Königstraße 48/50\, 76829 Landau in 
 der Pfalz
URL:https://kulturnetz-landau.de/veranstaltung/kino-kaffee-kuchen-funny-bi
 rds-znxd/
BEGIN:VALARM
ACTION:display
DESCRIPTION:Kino-Kaffee-Kuchen: Funny Birds
TRIGGER:-PT1H
END:VALARM
END:VEVENT
END:VCALENDAR
