BEGIN:VCALENDAR
VERSION:2.0
CALSCALE:GREGORIAN
METHOD:PUBLISH
X-WR-TIMEZONE:Europe/Berlin
BEGIN:VEVENT
SUMMARY:Jubiläumskonzert
DTSTART:20260502T160000Z
DTSTAMP:20260424T140653Z
UID:veranstaltung-2501@kulturnetz-landau.de
CATEGORIES:
DESCRIPTION:25 Jahre KlangHof Impflingen\n\nhttps://kulturnetz-landau.de/v
 eranstaltung/jubilaeumskonzert-d26z/
LOCATION:Klanghof Impflingen\, Im Saumarkt 4\, 76831 Impflingen
URL:https://kulturnetz-landau.de/veranstaltung/jubilaeumskonzert-d26z/
BEGIN:VALARM
ACTION:display
DESCRIPTION:Jubiläumskonzert
TRIGGER:-PT1H
END:VALARM
END:VEVENT
END:VCALENDAR
