BEGIN:VCALENDAR
VERSION:2.0
CALSCALE:GREGORIAN
METHOD:PUBLISH
X-WR-TIMEZONE:Europe/Berlin
BEGIN:VEVENT
SUMMARY:HISS
DTSTART:20260328T190000Z
DTSTAMP:20260420T162951Z
UID:veranstaltung-2349@kulturnetz-landau.de
CATEGORIES:
DESCRIPTION:Für eine Handvoll Cent\n\nhttps://kulturnetz-landau.de/verans
 taltung/hiss-6vgj/
LOCATION:Kulturzentrum Altes Kaufhaus\, Rathausplatz 9\, 76829 Landau in d
 er Pfalz
URL:https://kulturnetz-landau.de/veranstaltung/hiss-6vgj/
BEGIN:VALARM
ACTION:display
DESCRIPTION:HISS
TRIGGER:-PT1H
END:VALARM
END:VEVENT
END:VCALENDAR
