BEGIN:VCALENDAR
VERSION:2.0
CALSCALE:GREGORIAN
METHOD:PUBLISH
X-WR-TIMEZONE:Europe/Berlin
BEGIN:VEVENT
SUMMARY:Hannah Schlubeck: Konzert für Panflöte und Orgel
DTSTART:20240512T150000Z
DTSTAMP:20260422T094259Z
UID:veranstaltung-1099@kulturnetz-landau.de
CATEGORIES:
DESCRIPTION:100 Jahre Steinmeyer-Orgel\n\nhttps://kulturnetz-landau.de/ver
 anstaltung/hannah-schlubeck-konzert-fuer-panfloete-und-orgel-oxqn/
LOCATION:Marienkirche Landau\, Marienring 4\, 76829 Landau in der Pfalz
URL:https://kulturnetz-landau.de/veranstaltung/hannah-schlubeck-konzert-fu
 er-panfloete-und-orgel-oxqn/
BEGIN:VALARM
ACTION:display
DESCRIPTION:Hannah Schlubeck: Konzert für Panflöte und Orgel
TRIGGER:-PT1H
END:VALARM
END:VEVENT
END:VCALENDAR
