BEGIN:VCALENDAR
VERSION:2.0
CALSCALE:GREGORIAN
METHOD:PUBLISH
X-WR-TIMEZONE:Europe/Berlin
BEGIN:VEVENT
SUMMARY:Good Vibes 4 You
DTSTART:20240816T170000Z
DTSTAMP:20260421T115543Z
UID:veranstaltung-1316@kulturnetz-landau.de
CATEGORIES:
DESCRIPTION:Tante Emmas Sommer-Chillout\n\nhttps://kulturnetz-landau.de/ve
 ranstaltung/good-vibes-4-you-xd65/
LOCATION:Hof der Bischöflichen Amtskellerei\, Arzheimer Hauptstraße 42\,
  76829 Landau in der Pfalz
URL:https://kulturnetz-landau.de/veranstaltung/good-vibes-4-you-xd65/
BEGIN:VALARM
ACTION:display
DESCRIPTION:Good Vibes 4 You
TRIGGER:-PT1H
END:VALARM
END:VEVENT
END:VCALENDAR
