BEGIN:VCALENDAR
VERSION:2.0
CALSCALE:GREGORIAN
METHOD:PUBLISH
X-WR-TIMEZONE:Europe/Berlin
BEGIN:VEVENT
SUMMARY:Funny Money
DTSTART:20260321T190000Z
DTSTAMP:20260422T120550Z
UID:veranstaltung-2308@kulturnetz-landau.de
CATEGORIES:
DESCRIPTION:Komödie der Kleinen Bühne Landau\n\nhttps://kulturnetz-landa
 u.de/veranstaltung/funny-money-4zr5/
LOCATION:Jugendwerk St. Josef (Theatersaal)\, Queichheimer Hauptstraße 23
 1\, 76829 Landau in der Pfalz
URL:https://kulturnetz-landau.de/veranstaltung/funny-money-4zr5/
BEGIN:VALARM
ACTION:display
DESCRIPTION:Funny Money
TRIGGER:-PT1H
END:VALARM
END:VEVENT
END:VCALENDAR
