BEGIN:VCALENDAR
VERSION:2.0
CALSCALE:GREGORIAN
METHOD:PUBLISH
X-WR-TIMEZONE:Europe/Berlin
BEGIN:VEVENT
SUMMARY:Frisch Frosch Frei
DTSTART:20260315T150000Z
DTSTAMP:20260422T120248Z
UID:veranstaltung-2394@kulturnetz-landau.de
CATEGORIES:
DESCRIPTION:Ein Kaulquappen-Abenteuer zum Mitwachsen\n\nhttps://kulturnetz
 -landau.de/veranstaltung/frisch-frosch-frei-wmrv/
LOCATION:Haus am Westbahnhof\, An 44 40a\, 76829 Landau in der Pfalz
URL:https://kulturnetz-landau.de/veranstaltung/frisch-frosch-frei-wmrv/
BEGIN:VALARM
ACTION:display
DESCRIPTION:Frisch Frosch Frei
TRIGGER:-PT1H
END:VALARM
END:VEVENT
END:VCALENDAR
