BEGIN:VCALENDAR
VERSION:2.0
CALSCALE:GREGORIAN
METHOD:PUBLISH
X-WR-TIMEZONE:Europe/Berlin
BEGIN:VEVENT
SUMMARY:Foaie Verde
DTSTART:20260720T180000Z
DTSTAMP:20260423T153529Z
UID:veranstaltung-2495@kulturnetz-landau.de
CATEGORIES:
DESCRIPTION:Montagsreihe des KuZ Altstadt\n\nhttps://kulturnetz-landau.de/
 veranstaltung/foaie-verde-7ogx/
LOCATION:Frank-Loebsches Haus (Innenhof)\, Kaufhausgasse 9\, 76829 Landau 
 in der Pfalz
URL:https://kulturnetz-landau.de/veranstaltung/foaie-verde-7ogx/
BEGIN:VALARM
ACTION:display
DESCRIPTION:Foaie Verde
TRIGGER:-PT1H
END:VALARM
END:VEVENT
END:VCALENDAR
