BEGIN:VCALENDAR
VERSION:2.0
CALSCALE:GREGORIAN
METHOD:PUBLISH
X-WR-TIMEZONE:Europe/Berlin
BEGIN:VEVENT
SUMMARY:Flohmarktstadt
DTSTART:20260517T100000Z
DTEND:20260517T180000Z
DTSTAMP:20260421T164241Z
UID:veranstaltung-2488@kulturnetz-landau.de
CATEGORIES:
DESCRIPTION:Stadtring und Südstadt werden zu einem großen Flohmarktfesti
 val!\n\nhttps://kulturnetz-landau.de/veranstaltung/flohmarktstadt-zrw5/
LOCATION:Landau\, None\, 76829 Landau in der Pfalz
URL:https://kulturnetz-landau.de/veranstaltung/flohmarktstadt-zrw5/
BEGIN:VALARM
ACTION:display
DESCRIPTION:Flohmarktstadt
TRIGGER:-PT1H
END:VALARM
END:VEVENT
END:VCALENDAR
