BEGIN:VCALENDAR
VERSION:2.0
CALSCALE:GREGORIAN
METHOD:PUBLISH
X-WR-TIMEZONE:Europe/Berlin
BEGIN:VEVENT
SUMMARY:Die bunten Zwanziger - Zwischen Euphorie und Erschöpfung (Verniss
 age)
DTSTART:20260515T170000Z
DTSTAMP:20260424T140024Z
UID:veranstaltung-2502@kulturnetz-landau.de
CATEGORIES:
DESCRIPTION:Sommerausstellung des Landauer Kunstvereins\n\nhttps://kulturn
 etz-landau.de/veranstaltung/die-bunten-zwanziger-zwischen-euphorie-und-ers
 choepfung-vernissage-vvmn/
LOCATION:Städtische Galerie Villa Streccius\, Südring 20\, 76829 Landau 
 in der Pfalz
URL:https://kulturnetz-landau.de/veranstaltung/die-bunten-zwanziger-zwisch
 en-euphorie-und-erschoepfung-vernissage-vvmn/
BEGIN:VALARM
ACTION:display
DESCRIPTION:Die bunten Zwanziger - Zwischen Euphorie und Erschöpfung (Ver
 nissage)
TRIGGER:-PT1H
END:VALARM
END:VEVENT
END:VCALENDAR
