BEGIN:VCALENDAR
VERSION:2.0
CALSCALE:GREGORIAN
METHOD:PUBLISH
X-WR-TIMEZONE:Europe/Berlin
BEGIN:VEVENT
SUMMARY:Der Wunsch nach mehr
DTSTART:20260322T100000Z
DTSTAMP:20260422T105242Z
UID:veranstaltung-2375@kulturnetz-landau.de
CATEGORIES:
DESCRIPTION:Lesung zu Leben und Werk von Tove Ditlevsen\n\nhttps://kulturn
 etz-landau.de/veranstaltung/der-wunsch-nach-mehr-gxy2/
LOCATION:Frank-Loebsches Haus\, Kaufhausgasse 9\, 76829 Landau in der Pfal
 z
URL:https://kulturnetz-landau.de/veranstaltung/der-wunsch-nach-mehr-gxy2/
BEGIN:VALARM
ACTION:display
DESCRIPTION:Der Wunsch nach mehr
TRIGGER:-PT1H
END:VALARM
END:VEVENT
END:VCALENDAR
