BEGIN:VCALENDAR
VERSION:2.0
CALSCALE:GREGORIAN
METHOD:PUBLISH
X-WR-TIMEZONE:Europe/Berlin
BEGIN:VEVENT
SUMMARY:Dance on
DTSTART:20260701T173000Z
DTEND:20260701T190000Z
DTSTAMP:20260420T203654Z
UID:veranstaltung-2483@kulturnetz-landau.de
CATEGORIES:
DESCRIPTION:Freies Tanzen mit Martina Freytag\n\nhttps://kulturnetz-landau
 .de/veranstaltung/dance-on-2env/
LOCATION:Haus am Westbahnhof\, An 44 40a\, 76829 Landau in der Pfalz
URL:https://kulturnetz-landau.de/veranstaltung/dance-on-2env/
BEGIN:VALARM
ACTION:display
DESCRIPTION:Dance on
TRIGGER:-PT1H
END:VALARM
END:VEVENT
END:VCALENDAR
