BEGIN:VCALENDAR
VERSION:2.0
CALSCALE:GREGORIAN
METHOD:PUBLISH
X-WR-TIMEZONE:Europe/Berlin
BEGIN:VEVENT
SUMMARY:Cinelli Brothers
DTSTART:20261030T190000Z
DTSTAMP:20260423T154246Z
UID:veranstaltung-2499@kulturnetz-landau.de
CATEGORIES:
DESCRIPTION:Blues\, Rock\, Soul\n\nhttps://kulturnetz-landau.de/veranstalt
 ung/cinelli-brothers-oqm2/
LOCATION:Kulturzentrum Altes Kaufhaus\, Rathausplatz 9\, 76829 Landau in d
 er Pfalz
URL:https://kulturnetz-landau.de/veranstaltung/cinelli-brothers-oqm2/
BEGIN:VALARM
ACTION:display
DESCRIPTION:Cinelli Brothers
TRIGGER:-PT1H
END:VALARM
END:VEVENT
END:VCALENDAR
