BEGIN:VCALENDAR
VERSION:2.0
CALSCALE:GREGORIAN
METHOD:PUBLISH
X-WR-TIMEZONE:Europe/Berlin
BEGIN:VEVENT
SUMMARY:Celtic Dreams: Zurück zu den Wurzeln
DTSTART:20260501T170000Z
DTSTAMP:20260422T131059Z
UID:veranstaltung-2492@kulturnetz-landau.de
CATEGORIES:
DESCRIPTION:Lieder von der grünen Insel\n\nhttps://kulturnetz-landau.de/v
 eranstaltung/celtic-dreams-zurueck-zu-den-wurzeln-ezxq/
LOCATION:Bethesda Landau\, Bodelschwinghstraße 27\, 76829 Landau in der P
 falz
URL:https://kulturnetz-landau.de/veranstaltung/celtic-dreams-zurueck-zu-de
 n-wurzeln-ezxq/
BEGIN:VALARM
ACTION:display
DESCRIPTION:Celtic Dreams: Zurück zu den Wurzeln
TRIGGER:-PT1H
END:VALARM
END:VEVENT
END:VCALENDAR
