BEGIN:VCALENDAR
VERSION:2.0
CALSCALE:GREGORIAN
METHOD:PUBLISH
X-WR-TIMEZONE:Europe/Berlin
BEGIN:VEVENT
SUMMARY:Brüder Presnjakow: Terrorismus
DTSTART:20250207T183000Z
DTSTAMP:20260421T115033Z
UID:veranstaltung-1587@kulturnetz-landau.de
CATEGORIES:
DESCRIPTION:Inszenierung von Studierenden des Darstellenden Spiels\n\nhttp
 s://kulturnetz-landau.de/veranstaltung/brueder-presnjakow-terrorismus-y6q6
 /
LOCATION:RPTU Campus Landau (Audimax)\, Fortstraße 7\, 76829 Landau in de
 r Pfalz
URL:https://kulturnetz-landau.de/veranstaltung/brueder-presnjakow-terroris
 mus-y6q6/
BEGIN:VALARM
ACTION:display
DESCRIPTION:Brüder Presnjakow: Terrorismus
TRIGGER:-PT1H
END:VALARM
END:VEVENT
END:VCALENDAR
