BEGIN:VCALENDAR
VERSION:2.0
CALSCALE:GREGORIAN
METHOD:PUBLISH
X-WR-TIMEZONE:Europe/Berlin
BEGIN:VEVENT
SUMMARY:Boppin'B
DTSTART:20260919T180000Z
DTSTAMP:20260421T090202Z
UID:veranstaltung-2401@kulturnetz-landau.de
CATEGORIES:
DESCRIPTION:40 Jahre Rock'n'Roll\n\nhttps://kulturnetz-landau.de/veranstal
 tung/boppinb-dko6/
LOCATION:Kulturzentrum Altes Kaufhaus\, Rathausplatz 9\, 76829 Landau in d
 er Pfalz
URL:https://kulturnetz-landau.de/veranstaltung/boppinb-dko6/
BEGIN:VALARM
ACTION:display
DESCRIPTION:Boppin'B
TRIGGER:-PT1H
END:VALARM
END:VEVENT
END:VCALENDAR
