BEGIN:VCALENDAR
VERSION:2.0
CALSCALE:GREGORIAN
METHOD:PUBLISH
X-WR-TIMEZONE:Europe/Berlin
BEGIN:VEVENT
SUMMARY:Ausblick! Das Kulturprogramm 2026/27
DTSTART:20260521T173000Z
DTSTAMP:20260421T090202Z
UID:veranstaltung-2399@kulturnetz-landau.de
CATEGORIES:
DESCRIPTION:Das Kulturbüro präsentiert das Programm für kommende Saison
 \n\nhttps://kulturnetz-landau.de/veranstaltung/ausblick-das-kulturprogramm
 -202627-o5ne/
LOCATION:Jugendstil-Festhalle Landau (Kleiner Saal)\, Mahlastraße 3\, 768
 29 Landau in der Pfalz
URL:https://kulturnetz-landau.de/veranstaltung/ausblick-das-kulturprogramm
 -202627-o5ne/
BEGIN:VALARM
ACTION:display
DESCRIPTION:Ausblick! Das Kulturprogramm 2026/27
TRIGGER:-PT1H
END:VALARM
END:VEVENT
END:VCALENDAR
