BEGIN:VCALENDAR
VERSION:2.0
CALSCALE:GREGORIAN
METHOD:PUBLISH
X-WR-TIMEZONE:Europe/Berlin
BEGIN:VEVENT
SUMMARY:Aparte Kunst (Vernissage)
DTSTART:20250524T130000Z
DTSTAMP:20260420T145429Z
UID:veranstaltung-1908@kulturnetz-landau.de
CATEGORIES:
DESCRIPTION:»Anziehungspunkt«\n\nhttps://kulturnetz-landau.de/veranstalt
 ung/aparte-kunst-vernissage-425r/
LOCATION:Aparte Kunst\, Rathausplatz 8\, 76829 Landau in der Pfalz
URL:https://kulturnetz-landau.de/veranstaltung/aparte-kunst-vernissage-425
 r/
BEGIN:VALARM
ACTION:display
DESCRIPTION:Aparte Kunst (Vernissage)
TRIGGER:-PT1H
END:VALARM
END:VEVENT
END:VCALENDAR
