BEGIN:VCALENDAR
VERSION:2.0
CALSCALE:GREGORIAN
METHOD:PUBLISH
X-WR-TIMEZONE:Europe/Berlin
BEGIN:VEVENT
SUMMARY:Annette Postel: Her mit dem Haifisch...Weill!
DTSTART:20260713T180000Z
DTSTAMP:20260423T154022Z
UID:veranstaltung-2494@kulturnetz-landau.de
CATEGORIES:
DESCRIPTION:Montagsreihe des KuZ Altstadt\n\nhttps://kulturnetz-landau.de/
 veranstaltung/annette-postel-her-mit-dem-haifischweill-w5yo/
LOCATION:Frank-Loebsches Haus (Innenhof)\, Kaufhausgasse 9\, 76829 Landau 
 in der Pfalz
URL:https://kulturnetz-landau.de/veranstaltung/annette-postel-her-mit-dem-
 haifischweill-w5yo/
BEGIN:VALARM
ACTION:display
DESCRIPTION:Annette Postel: Her mit dem Haifisch...Weill!
TRIGGER:-PT1H
END:VALARM
END:VEVENT
END:VCALENDAR
